BEGIN:VCALENDAR
VERSION:2.0
PRODID:-//The Catholic Women&#039;s League of Canada - ECPv6.14.0//NONSGML v1.0//EN
CALSCALE:GREGORIAN
METHOD:PUBLISH
X-ORIGINAL-URL:https://www.cwl.ca
X-WR-CALDESC:Events for The Catholic Women&#039;s League of Canada
REFRESH-INTERVAL;VALUE=DURATION:PT1H
X-Robots-Tag:noindex
X-PUBLISHED-TTL:PT1H
BEGIN:VTIMEZONE
TZID:UTC
BEGIN:STANDARD
TZOFFSETFROM:+0000
TZOFFSETTO:+0000
TZNAME:UTC
DTSTART:20290101T000000
END:STANDARD
END:VTIMEZONE
BEGIN:VEVENT
DTSTART;VALUE=DATE:20290527
DTEND;VALUE=DATE:20290528
DTSTAMP:20260420T072315
CREATED:20250930T010203Z
LAST-MODIFIED:20250930T010203Z
UID:10000750-1874534400-1874620799@www.cwl.ca
SUMMARY:Feast Day of Saint Augustine of Canterbury
DESCRIPTION:
URL:https://www.cwl.ca/event/feast-day-of-saint-augustine-of-canterbury/2029-05-27/
END:VEVENT
BEGIN:VEVENT
DTSTART;VALUE=DATE:20290531
DTEND;VALUE=DATE:20290601
DTSTAMP:20260420T072315
CREATED:20250930T010237Z
LAST-MODIFIED:20250930T010237Z
UID:10000755-1874880000-1874966399@www.cwl.ca
SUMMARY:The Visitation of the Blessed Virgin Mary
DESCRIPTION:
URL:https://www.cwl.ca/event/the-visitation-of-the-blessed-virgin-mary-2/2029-05-31/
END:VEVENT
BEGIN:VEVENT
DTSTART;VALUE=DATE:20290601
DTEND;VALUE=DATE:20290602
DTSTAMP:20260420T072315
CREATED:20250930T010555Z
LAST-MODIFIED:20250930T010555Z
UID:10000775-1874966400-1875052799@www.cwl.ca
SUMMARY:Feast Day of Saint Justin Martyr
DESCRIPTION:
URL:https://www.cwl.ca/event/feast-day-of-saint-justin-martyr/2029-06-01/
END:VEVENT
BEGIN:VEVENT
DTSTART;VALUE=DATE:20290602
DTEND;VALUE=DATE:20290603
DTSTAMP:20260420T072315
CREATED:20250930T010637Z
LAST-MODIFIED:20250930T010637Z
UID:10000780-1875052800-1875139199@www.cwl.ca
SUMMARY:Feast Day of Saints Marcellinus and Peter\, Martyrs
DESCRIPTION:
URL:https://www.cwl.ca/event/feast-day-of-saints-marcellinus-and-peter-martyrs/2029-06-02/
END:VEVENT
BEGIN:VEVENT
DTSTART;VALUE=DATE:20290603
DTEND;VALUE=DATE:20290604
DTSTAMP:20260420T072315
CREATED:20250930T010719Z
LAST-MODIFIED:20250930T010719Z
UID:10000785-1875139200-1875225599@www.cwl.ca
SUMMARY:Feast Day of Blessed John XXIII
DESCRIPTION:
URL:https://www.cwl.ca/event/feast-day-of-blessed-john-xxiii/2029-06-03/
END:VEVENT
BEGIN:VEVENT
DTSTART;VALUE=DATE:20290604
DTEND;VALUE=DATE:20290605
DTSTAMP:20260420T072315
CREATED:20250930T010755Z
LAST-MODIFIED:20250930T010755Z
UID:10000790-1875225600-1875311999@www.cwl.ca
SUMMARY:Saint Francis Caracciolo
DESCRIPTION:
URL:https://www.cwl.ca/event/saint-francis-caracciolo/2029-06-04/
END:VEVENT
BEGIN:VEVENT
DTSTART;VALUE=DATE:20290605
DTEND;VALUE=DATE:20290606
DTSTAMP:20260420T072315
CREATED:20250930T010834Z
LAST-MODIFIED:20250930T010834Z
UID:10000795-1875312000-1875398399@www.cwl.ca
SUMMARY:Feast Day of Saint Boniface\, Bishop and Martyr
DESCRIPTION:
URL:https://www.cwl.ca/event/feast-day-of-saint-boniface-bishop-and-martyr/2029-06-05/
END:VEVENT
BEGIN:VEVENT
DTSTART;VALUE=DATE:20290607
DTEND;VALUE=DATE:20290608
DTSTAMP:20260420T072315
CREATED:20250930T010355Z
LAST-MODIFIED:20250930T010355Z
UID:10000760-1875484800-1875571199@www.cwl.ca
SUMMARY:Solemnity of the Most Holy Body & Blood of Christ (Corpus Christi)
DESCRIPTION:
URL:https://www.cwl.ca/event/solemnity-of-the-most-holy-body-blood-of-christ-corpus-christi/2029-06-07/
END:VEVENT
BEGIN:VEVENT
DTSTART;VALUE=DATE:20290610
DTEND;VALUE=DATE:20290611
DTSTAMP:20260420T072315
CREATED:20250930T010914Z
LAST-MODIFIED:20250930T010914Z
UID:10000800-1875744000-1875830399@www.cwl.ca
SUMMARY:Feast Day of Saints Bartholomew\, bishop\, and his companions
DESCRIPTION:
URL:https://www.cwl.ca/event/feast-day-of-saints-bartholomew-bishop-and-his-companions/2029-06-10/
END:VEVENT
BEGIN:VEVENT
DTSTART;VALUE=DATE:20290611
DTEND;VALUE=DATE:20290612
DTSTAMP:20260420T072315
CREATED:20250930T010947Z
LAST-MODIFIED:20250930T010947Z
UID:10000805-1875830400-1875916799@www.cwl.ca
SUMMARY:Feast Day of Saint Barnabas\, Apostle
DESCRIPTION:
URL:https://www.cwl.ca/event/feast-day-of-saint-barnabas-apostle/2029-06-11/
END:VEVENT
BEGIN:VEVENT
DTSTART;VALUE=DATE:20290612
DTEND;VALUE=DATE:20290613
DTSTAMP:20260420T072315
CREATED:20250930T010430Z
LAST-MODIFIED:20250930T010430Z
UID:10000765-1875916800-1876003199@www.cwl.ca
SUMMARY:Solemnity of the Most Sacred Heart of Jesus
DESCRIPTION:
URL:https://www.cwl.ca/event/solemnity-of-the-most-sacred-heart-of-jesus/2029-06-12/
END:VEVENT
BEGIN:VEVENT
DTSTART;VALUE=DATE:20290612
DTEND;VALUE=DATE:20290613
DTSTAMP:20260420T072315
CREATED:20250930T011024Z
LAST-MODIFIED:20250930T011024Z
UID:10000810-1875916800-1876003199@www.cwl.ca
SUMMARY:Feast Day of Saint John of Sahagún\, Priest
DESCRIPTION:
URL:https://www.cwl.ca/event/feast-day-of-saint-john-of-sahagun-priest/2029-06-12/
END:VEVENT
BEGIN:VEVENT
DTSTART;VALUE=DATE:20290615
DTEND;VALUE=DATE:20290616
DTSTAMP:20260420T072315
CREATED:20250930T011106Z
LAST-MODIFIED:20250930T011106Z
UID:10000815-1876176000-1876262399@www.cwl.ca
SUMMARY:Feast Day of Saint Vitus\, Martyr
DESCRIPTION:
URL:https://www.cwl.ca/event/feast-day-of-saint-vitus-martyr/2029-06-15/
END:VEVENT
BEGIN:VEVENT
DTSTART;VALUE=DATE:20290616
DTEND;VALUE=DATE:20290617
DTSTAMP:20260420T072315
CREATED:20250616T180014Z
LAST-MODIFIED:20250616T180014Z
UID:10000343-1876262400-1876348799@www.cwl.ca
SUMMARY:The World Day for the Sanctification of Priests
DESCRIPTION:The month of June\, dedicated to the Sacred Heart of Jesus\, became a popular devotion in the late 1600s. The Heart\, with droplets of blood\, encircled by thorns\, with flames and a cross at the top\, and surrounded by divine light\, is symbolic of the heart of Jesus and His sacrificial love for humanity. The World Day for the Sanctification of Priests coincides with that of the Sacred Heart of Jesus. Members are invited to pray for priests and for personal holiness and a loving heart in imitation of Jesus.
URL:https://www.cwl.ca/event/the-world-day-for-the-sanctification-of-priests/2029-06-16/
END:VEVENT
BEGIN:VEVENT
DTSTART;VALUE=DATE:20290621
DTEND;VALUE=DATE:20290622
DTSTAMP:20260420T072315
CREATED:20250122T192257Z
LAST-MODIFIED:20250122T192257Z
UID:10000289-1876694400-1876780799@www.cwl.ca
SUMMARY:National Indigenous People's Day
DESCRIPTION:
URL:https://www.cwl.ca/event/national-indigenous-peoples-day/2029-06-21/
END:VEVENT
BEGIN:VEVENT
DTSTART;VALUE=DATE:20290622
DTEND;VALUE=DATE:20290623
DTSTAMP:20260420T072315
CREATED:20250930T011145Z
LAST-MODIFIED:20250930T011145Z
UID:10000820-1876780800-1876867199@www.cwl.ca
SUMMARY:Feast Day of Saint Paulinus of Nola\, Bishop
DESCRIPTION:
URL:https://www.cwl.ca/event/feast-day-of-saint-paulinus-of-nola-bishop/2029-06-22/
END:VEVENT
BEGIN:VEVENT
DTSTART;VALUE=DATE:20290623
DTEND;VALUE=DATE:20290624
DTSTAMP:20260420T072315
CREATED:20250930T011224Z
LAST-MODIFIED:20250930T011224Z
UID:10000825-1876867200-1876953599@www.cwl.ca
SUMMARY:Feast Day of Saint John's Eve (Eve of the Feast of Saint John the Baptist)
DESCRIPTION:
URL:https://www.cwl.ca/event/feast-day-of-saint-johns-eve-eve-of-the-feast-of-saint-john-the-baptist/2029-06-23/
END:VEVENT
BEGIN:VEVENT
DTSTART;VALUE=DATE:20290625
DTEND;VALUE=DATE:20290626
DTSTAMP:20260420T072315
CREATED:20250930T010509Z
LAST-MODIFIED:20250930T010509Z
UID:10000770-1877040000-1877126399@www.cwl.ca
SUMMARY:Feast of Saint William of Vercelli
DESCRIPTION:
URL:https://www.cwl.ca/event/feast-of-saint-william-of-vercelli/2029-06-25/
END:VEVENT
BEGIN:VEVENT
DTSTART;VALUE=DATE:20290701
DTEND;VALUE=DATE:20290702
DTSTAMP:20260420T072315
CREATED:20251002T012111Z
LAST-MODIFIED:20251002T012111Z
UID:10000831-1877558400-1877644799@www.cwl.ca
SUMMARY:Feast Day of Saint Oliver Plunkett
DESCRIPTION:
URL:https://www.cwl.ca/event/feast-day-of-saint-oliver-plunkett/2029-07-01/
END:VEVENT
BEGIN:VEVENT
DTSTART;VALUE=DATE:20290703
DTEND;VALUE=DATE:20290704
DTSTAMP:20260420T072315
CREATED:20251002T012152Z
LAST-MODIFIED:20251002T012152Z
UID:10000836-1877731200-1877817599@www.cwl.ca
SUMMARY:Feast Day of Saint Thomas the Apostle
DESCRIPTION:
URL:https://www.cwl.ca/event/feast-day-of-saint-thomas-the-apostle/2029-07-03/
END:VEVENT
BEGIN:VEVENT
DTSTART;VALUE=DATE:20290704
DTEND;VALUE=DATE:20290705
DTSTAMP:20260420T072315
CREATED:20251002T012252Z
LAST-MODIFIED:20251002T012252Z
UID:10000841-1877817600-1877903999@www.cwl.ca
SUMMARY:Feast Day of Saint Elizabeth of Portugal
DESCRIPTION:
URL:https://www.cwl.ca/event/feast-day-of-saint-elizabeth-of-portugal/2029-07-04/
END:VEVENT
BEGIN:VEVENT
DTSTART;TZID=UTC:20290704T080000
DTEND;TZID=UTC:20290704T170000
DTSTAMP:20260420T072315
CREATED:20251002T014230Z
LAST-MODIFIED:20251002T014230Z
UID:10000926-1877846400-1877878800@www.cwl.ca
SUMMARY:Feast Day of Pier Giorgio Frassati
DESCRIPTION:
URL:https://www.cwl.ca/event/feast-day-of-pier-giorgio-frassati/2029-07-04/
END:VEVENT
BEGIN:VEVENT
DTSTART;VALUE=DATE:20290705
DTEND;VALUE=DATE:20290706
DTSTAMP:20260420T072315
CREATED:20251002T012357Z
LAST-MODIFIED:20251002T012357Z
UID:10000846-1877904000-1877990399@www.cwl.ca
SUMMARY:Feast Day of Saint Anthony Zaccaria\, priest
DESCRIPTION:
URL:https://www.cwl.ca/event/feast-day-of-saint-anthony-zaccaria-priest/2029-07-05/
END:VEVENT
BEGIN:VEVENT
DTSTART;VALUE=DATE:20290706
DTEND;VALUE=DATE:20290707
DTSTAMP:20260420T072315
CREATED:20251002T012513Z
LAST-MODIFIED:20251002T012513Z
UID:10000851-1877990400-1878076799@www.cwl.ca
SUMMARY:Feast Day of Saint Maria Goretti\, virgin and martyr
DESCRIPTION:
URL:https://www.cwl.ca/event/feast-day-of-saint-maria-goretti-virgin-and-martyr/2029-07-06/
END:VEVENT
BEGIN:VEVENT
DTSTART;VALUE=DATE:20290711
DTEND;VALUE=DATE:20290712
DTSTAMP:20260420T072315
CREATED:20251002T012618Z
LAST-MODIFIED:20251002T012618Z
UID:10000856-1878422400-1878508799@www.cwl.ca
SUMMARY:Feast Day of Saint Benedict\, abbot
DESCRIPTION:
URL:https://www.cwl.ca/event/feast-day-of-saint-benedict-abbot/2029-07-11/
END:VEVENT
BEGIN:VEVENT
DTSTART;VALUE=DATE:20290712
DTEND;VALUE=DATE:20290713
DTSTAMP:20260420T072315
CREATED:20250603T212711Z
LAST-MODIFIED:20250603T212711Z
UID:10000333-1878508800-1878595199@www.cwl.ca
SUMMARY:Feast Day of St. Veronica
DESCRIPTION:
URL:https://www.cwl.ca/event/feast-day-of-st-veronica/2029-07-12/
END:VEVENT
BEGIN:VEVENT
DTSTART;VALUE=DATE:20290715
DTEND;VALUE=DATE:20290716
DTSTAMP:20260420T072315
CREATED:20251002T012715Z
LAST-MODIFIED:20251002T012715Z
UID:10000861-1878768000-1878854399@www.cwl.ca
SUMMARY:Feast Day of Saint Bonaventure\, bishop and doctor
DESCRIPTION:
URL:https://www.cwl.ca/event/feast-day-of-saint-bonaventure-bishop-and-doctor/2029-07-15/
END:VEVENT
BEGIN:VEVENT
DTSTART;VALUE=DATE:20290716
DTEND;VALUE=DATE:20290717
DTSTAMP:20260420T072315
CREATED:20250603T213009Z
LAST-MODIFIED:20250716T131650Z
UID:10000338-1878854400-1878940799@www.cwl.ca
SUMMARY:Feast of Our Lady of Mount Carmel
DESCRIPTION:The feast of Our Lady of Mount Carmel is held on July 16th. According to Carmelite traditions\, on this day\, Mary\, the Mother of Christ\, gave the brown scapular to monastic St. Simon Stock to protect his order from oppression. This day is a special devotion to Mary\, who teaches us to be open to God\, and to His will.
URL:https://www.cwl.ca/event/feast-of-our-lady-of-mount-carmel/2029-07-16/
END:VEVENT
BEGIN:VEVENT
DTSTART;VALUE=DATE:20290722
DTEND;VALUE=DATE:20290723
DTSTAMP:20260420T072315
CREATED:20251002T012853Z
LAST-MODIFIED:20251002T012853Z
UID:10000871-1879372800-1879459199@www.cwl.ca
SUMMARY:Feast Day of Saint Mary Magdalene
DESCRIPTION:
URL:https://www.cwl.ca/event/feast-day-of-saint-mary-magdalene/2029-07-22/
END:VEVENT
BEGIN:VEVENT
DTSTART;VALUE=DATE:20290725
DTEND;VALUE=DATE:20290726
DTSTAMP:20260420T072315
CREATED:20251002T012936Z
LAST-MODIFIED:20251002T012936Z
UID:10000876-1879632000-1879718399@www.cwl.ca
SUMMARY:Feast Day of Saint James\, apostle
DESCRIPTION:
URL:https://www.cwl.ca/event/feast-day-of-saint-james-apostle/2029-07-25/
END:VEVENT
END:VCALENDAR