BEGIN:VCALENDAR
VERSION:2.0
PRODID:-//The Catholic Women&#039;s League of Canada - ECPv6.14.0//NONSGML v1.0//EN
CALSCALE:GREGORIAN
METHOD:PUBLISH
X-WR-CALNAME:The Catholic Women&#039;s League of Canada
X-ORIGINAL-URL:https://www.cwl.ca
X-WR-CALDESC:Events for The Catholic Women&#039;s League of Canada
REFRESH-INTERVAL;VALUE=DURATION:PT1H
X-Robots-Tag:noindex
X-PUBLISHED-TTL:PT1H
BEGIN:VTIMEZONE
TZID:UTC
BEGIN:STANDARD
TZOFFSETFROM:+0000
TZOFFSETTO:+0000
TZNAME:UTC
DTSTART:20300101T000000
END:STANDARD
END:VTIMEZONE
BEGIN:VEVENT
DTSTART;VALUE=DATE:20301111
DTEND;VALUE=DATE:20301112
DTSTAMP:20260422T224108
CREATED:20240327T155040Z
LAST-MODIFIED:20251111T154014Z
UID:10000940-1920585600-1920671999@www.cwl.ca
SUMMARY:Remembrance Day
DESCRIPTION:Remembrance Day: Canadians “pause in silence to remember those who died in war and to pray for the victims of aggression and inhumanity throughout the world. It is a day to pray for peace and to consider what we are doing as individuals\, as a community and as a nation to bring God’s peace into the world.” This is a day when a believing community should rededicate itself by prayer and action to the ideals Jesus gives us in the Beatitudes (Ordo 2023-2024) Members are invited to pause and pray the attached prayer in remembrance.\n\n\n\n\n\n\n\nascensionofourlord.ca/in-our-parish-2020-11-08/
URL:https://www.cwl.ca/event/remembrance-day-2/2030-11-11/
END:VEVENT
END:VCALENDAR