BEGIN:VCALENDAR
VERSION:2.0
PRODID:-//The Catholic Women&#039;s League of Canada - ECPv6.14.0//NONSGML v1.0//EN
CALSCALE:GREGORIAN
METHOD:PUBLISH
X-ORIGINAL-URL:https://www.cwl.ca
X-WR-CALDESC:Events for The Catholic Women&#039;s League of Canada
REFRESH-INTERVAL;VALUE=DURATION:PT1H
X-Robots-Tag:noindex
X-PUBLISHED-TTL:PT1H
BEGIN:VTIMEZONE
TZID:UTC
BEGIN:STANDARD
TZOFFSETFROM:+0000
TZOFFSETTO:+0000
TZNAME:UTC
DTSTART:20300101T000000
END:STANDARD
END:VTIMEZONE
BEGIN:VEVENT
DTSTART;VALUE=DATE:20300208
DTEND;VALUE=DATE:20300209
DTSTAMP:20260422T221259
CREATED:20250926T015425Z
LAST-MODIFIED:20250926T015425Z
UID:10000593-1896739200-1896825599@www.cwl.ca
SUMMARY:Saint Jerome Emiliani (Optional Memorial) and Saint Josephine Bakhita (Optional Memorial)
DESCRIPTION:
URL:https://www.cwl.ca/event/saint-jerome-emiliani-optional-memorial-and-saint-josephine-bakhita-optional-memorial/2030-02-08/
END:VEVENT
BEGIN:VEVENT
DTSTART;VALUE=DATE:20300210
DTEND;VALUE=DATE:20300211
DTSTAMP:20260422T221259
CREATED:20250926T015457Z
LAST-MODIFIED:20250926T015457Z
UID:10000598-1896912000-1896998399@www.cwl.ca
SUMMARY:St. Scholastica (Memorial)
DESCRIPTION:
URL:https://www.cwl.ca/event/st-scholastica-memorial/2030-02-10/
END:VEVENT
BEGIN:VEVENT
DTSTART;VALUE=DATE:20300211
DTEND;VALUE=DATE:20300212
DTSTAMP:20260422T221259
CREATED:20240327T151631Z
LAST-MODIFIED:20250211T122754Z
UID:10000303-1896998400-1897084799@www.cwl.ca
SUMMARY:World Day of the Sick
DESCRIPTION:World Day of the Sick (February 11th) honours Jesus’ ministry to the sick\, which Pope John Paul II established to offer prayers for those suffering from illness. The day coincides with the Memorial of Our Lady of Lourdes and emphasizes the importance of caring for the sick. It acknowledges the dedication of healthcare workers and pastoral caregivers who minister to the afflicted. The church encourages members to pray for the needs of the sick\, highlighting the vital role of service to those who are ill and suffering. \n 
URL:https://www.cwl.ca/event/world-day-of-the-sick-2/2030-02-11/
END:VEVENT
BEGIN:VEVENT
DTSTART;VALUE=DATE:20300211
DTEND;VALUE=DATE:20300212
DTSTAMP:20260422T221259
CREATED:20250926T015534Z
LAST-MODIFIED:20250926T015534Z
UID:10000603-1896998400-1897084799@www.cwl.ca
SUMMARY:Our Lady of Lourdes (Optional Memorial)
DESCRIPTION:
URL:https://www.cwl.ca/event/our-lady-of-lourdes-optional-memorial/2030-02-11/
END:VEVENT
BEGIN:VEVENT
DTSTART;VALUE=DATE:20300214
DTEND;VALUE=DATE:20300215
DTSTAMP:20260422T221259
CREATED:20250926T015609Z
LAST-MODIFIED:20250926T015609Z
UID:10000608-1897257600-1897343999@www.cwl.ca
SUMMARY:St. Valentine
DESCRIPTION:
URL:https://www.cwl.ca/event/st-valentine/2030-02-14/
END:VEVENT
BEGIN:VEVENT
DTSTART;VALUE=DATE:20300221
DTEND;VALUE=DATE:20300222
DTSTAMP:20260422T221259
CREATED:20250926T015752Z
LAST-MODIFIED:20250926T015752Z
UID:10000618-1897862400-1897948799@www.cwl.ca
SUMMARY:St. Peter Damian (Optional Memorial)
DESCRIPTION:
URL:https://www.cwl.ca/event/st-peter-damian-optional-memorial/2030-02-21/
END:VEVENT
BEGIN:VEVENT
DTSTART;VALUE=DATE:20300301
DTEND;VALUE=DATE:20300302
DTSTAMP:20260422T221259
CREATED:20260109T143621Z
LAST-MODIFIED:20260109T143621Z
UID:10000951-1898553600-1898639999@www.cwl.ca
SUMMARY:World Day of Prayer
DESCRIPTION:The World Day of Prayer is a global ecumenical movement that brings Christians of many traditions together to observe a common day of prayer each year. Through preparation and participation in the worship service\, we can learn how our sisters of other countries\, languages and cultures understand the Biblical passages in their context. We can hear their concerns and needs and can join in solidarity with them as we pray with and for them. In this way\, it is possible to enrich our Christian faith as it grows deeper and broader in an international\, ecumenical expression. \nThe motto of the World Day of Prayer movement is Informed Prayer and Prayerful Action. Through our participation in the World Day of Prayer\, we affirm that prayer and action are inseparable and that both have immeasurable influence on the world.
URL:https://www.cwl.ca/event/world-day-of-prayer-3/2030-03-01/
END:VEVENT
BEGIN:VEVENT
DTSTART;VALUE=DATE:20300303
DTEND;VALUE=DATE:20300304
DTSTAMP:20260422T221259
CREATED:20250926T020319Z
LAST-MODIFIED:20250926T020319Z
UID:10000634-1898726400-1898812799@www.cwl.ca
SUMMARY:Feast Day of Saint Katharine Drexel
DESCRIPTION:
URL:https://www.cwl.ca/event/feast-day-of-saint-katharine-drexel/2030-03-03/
END:VEVENT
BEGIN:VEVENT
DTSTART;VALUE=DATE:20300307
DTEND;VALUE=DATE:20300308
DTSTAMP:20260422T221259
CREATED:20250926T020408Z
LAST-MODIFIED:20250926T020408Z
UID:10000639-1899072000-1899158399@www.cwl.ca
SUMMARY:Feast Day of Saints Perpetua and Felicity
DESCRIPTION:
URL:https://www.cwl.ca/event/feast-day-of-saints-perpetua-and-felicity/2030-03-07/
END:VEVENT
BEGIN:VEVENT
DTSTART;VALUE=DATE:20300308
DTEND;VALUE=DATE:20300309
DTSTAMP:20260422T221259
CREATED:20250926T020504Z
LAST-MODIFIED:20250926T020504Z
UID:10000644-1899158400-1899244799@www.cwl.ca
SUMMARY:Feast Day of Saint John of God
DESCRIPTION:
URL:https://www.cwl.ca/event/feast-day-of-saint-john-of-god/2030-03-08/
END:VEVENT
BEGIN:VEVENT
DTSTART;VALUE=DATE:20300317
DTEND;VALUE=DATE:20300318
DTSTAMP:20260422T221259
CREATED:20250926T020553Z
LAST-MODIFIED:20250926T020553Z
UID:10000649-1899936000-1900022399@www.cwl.ca
SUMMARY:Feast Day of Saint Patrick\, Bishop
DESCRIPTION:
URL:https://www.cwl.ca/event/feast-day-of-saint-patrick-bishop/2030-03-17/
END:VEVENT
BEGIN:VEVENT
DTSTART;VALUE=DATE:20300323
DTEND;VALUE=DATE:20300324
DTSTAMP:20260422T221259
CREATED:20250926T020715Z
LAST-MODIFIED:20250926T020715Z
UID:10000659-1900454400-1900540799@www.cwl.ca
SUMMARY:Feast Day of Saint Turibius of Mogrovejo
DESCRIPTION:
URL:https://www.cwl.ca/event/feast-day-of-saint-turibius-of-mogrovejo/2030-03-23/
END:VEVENT
BEGIN:VEVENT
DTSTART;VALUE=DATE:20300325
DTEND;VALUE=DATE:20300326
DTSTAMP:20260422T221259
CREATED:20250926T015837Z
LAST-MODIFIED:20250926T015837Z
UID:10000623-1900627200-1900713599@www.cwl.ca
SUMMARY:The Solemnity of the Annunciation of the Lord\, celebrating the angel Gabriel's announcement to Mary.
DESCRIPTION:
URL:https://www.cwl.ca/event/the-solemnity-of-the-annunciation-of-the-lord-celebrating-the-angel-gabriels-announcement-to-mary/2030-03-25/
END:VEVENT
BEGIN:VEVENT
DTSTART;VALUE=DATE:20300326
DTEND;VALUE=DATE:20300327
DTSTAMP:20260422T221259
CREATED:20250926T020753Z
LAST-MODIFIED:20250926T020753Z
UID:10000664-1900713600-1900799999@www.cwl.ca
SUMMARY:Feast Day of Saint Margaret Clitherow
DESCRIPTION:
URL:https://www.cwl.ca/event/feast-day-of-saint-margaret-clitherow/2030-03-26/
END:VEVENT
BEGIN:VEVENT
DTSTART;VALUE=DATE:20300402
DTEND;VALUE=DATE:20300403
DTSTAMP:20260422T221259
CREATED:20250929T232314Z
LAST-MODIFIED:20250929T232314Z
UID:10000671-1901318400-1901404799@www.cwl.ca
SUMMARY:Feast Day of St Francis of Paola\, Hermit—Optional Memorial
DESCRIPTION:
URL:https://www.cwl.ca/event/feast-day-of-st-francis-of-paola-hermit-optional-memorial/2030-04-02/
END:VEVENT
BEGIN:VEVENT
DTSTART;VALUE=DATE:20300404
DTEND;VALUE=DATE:20300405
DTSTAMP:20260422T221259
CREATED:20250929T232351Z
LAST-MODIFIED:20250929T232351Z
UID:10000676-1901491200-1901577599@www.cwl.ca
SUMMARY:Feast Day of St Isidore\, Bishop and Doctor of the Church—Optional Memorial
DESCRIPTION:
URL:https://www.cwl.ca/event/feast-day-of-st-isidore-bishop-and-doctor-of-the-church-optional-memorial/2030-04-04/
END:VEVENT
BEGIN:VEVENT
DTSTART;VALUE=DATE:20300407
DTEND;VALUE=DATE:20300408
DTSTAMP:20260422T221259
CREATED:20250929T232428Z
LAST-MODIFIED:20250929T232428Z
UID:10000681-1901750400-1901836799@www.cwl.ca
SUMMARY:Feast Day of St John Baptist de la Salle\, Priest—Memorial
DESCRIPTION:
URL:https://www.cwl.ca/event/feast-day-of-st-john-baptist-de-la-salle-priest-memorial/2030-04-07/
END:VEVENT
BEGIN:VEVENT
DTSTART;VALUE=DATE:20300413
DTEND;VALUE=DATE:20300414
DTSTAMP:20260422T221259
CREATED:20250930T002003Z
LAST-MODIFIED:20250930T002003Z
UID:10000687-1902268800-1902355199@www.cwl.ca
SUMMARY:Feast Day of St Martin I\, Pope and Martyr—Optional Memorial
DESCRIPTION:
URL:https://www.cwl.ca/event/feast-day-of-st-martin-i-pope-and-martyr-optional-memorial/2030-04-13/
END:VEVENT
BEGIN:VEVENT
DTSTART;VALUE=DATE:20300421
DTEND;VALUE=DATE:20300422
DTSTAMP:20260422T221259
CREATED:20250930T002049Z
LAST-MODIFIED:20250930T002049Z
UID:10000692-1902960000-1903046399@www.cwl.ca
SUMMARY:Feast Day of St Anselm of Canterbury\, Bishop and Doctor of the Church—Optional Memorial
DESCRIPTION:
URL:https://www.cwl.ca/event/feast-day-of-st-anselm-of-canterbury-bishop-and-doctor-of-the-church-optional-memorial/2030-04-21/
END:VEVENT
BEGIN:VEVENT
DTSTART;VALUE=DATE:20300423
DTEND;VALUE=DATE:20300424
DTSTAMP:20260422T221259
CREATED:20250930T002206Z
LAST-MODIFIED:20250930T002206Z
UID:10000697-1903132800-1903219199@www.cwl.ca
SUMMARY:Feast Day of St George\, Martyr—Optional Memorial
DESCRIPTION:
URL:https://www.cwl.ca/event/feast-day-of-st-george-martyr-optional-memorial/2030-04-23/
END:VEVENT
BEGIN:VEVENT
DTSTART;VALUE=DATE:20300423
DTEND;VALUE=DATE:20300424
DTSTAMP:20260422T221259
CREATED:20250930T002329Z
LAST-MODIFIED:20250930T002329Z
UID:10000702-1903132800-1903219199@www.cwl.ca
SUMMARY:Feast Day of St Adalbert\, Bishop and Martyr—Optional Memorial
DESCRIPTION:
URL:https://www.cwl.ca/event/feast-day-of-st-adalbert-bishop-and-martyr-optional-memorial/2030-04-23/
END:VEVENT
BEGIN:VEVENT
DTSTART;VALUE=DATE:20300426
DTEND;VALUE=DATE:20300427
DTSTAMP:20260422T221259
CREATED:20250924T143035Z
LAST-MODIFIED:20250924T143035Z
UID:10000392-1903392000-1903478399@www.cwl.ca
SUMMARY:Feast of Our Lady of Good Counsel
DESCRIPTION:
URL:https://www.cwl.ca/event/feast-of-our-lady-of-good-counsel/2030-04-26/
END:VEVENT
BEGIN:VEVENT
DTSTART;VALUE=DATE:20300501
DTEND;VALUE=DATE:20300502
DTSTAMP:20260422T221259
CREATED:20250930T002406Z
LAST-MODIFIED:20250930T002406Z
UID:10000707-1903824000-1903910399@www.cwl.ca
SUMMARY:Feast Day of Saint Joseph the Worker
DESCRIPTION:
URL:https://www.cwl.ca/event/feast-day-of-saint-joseph-the-worker/2030-05-01/
END:VEVENT
BEGIN:VEVENT
DTSTART;VALUE=DATE:20300507
DTEND;VALUE=DATE:20300508
DTSTAMP:20260422T221259
CREATED:20250930T002444Z
LAST-MODIFIED:20250930T002444Z
UID:10000712-1904342400-1904428799@www.cwl.ca
SUMMARY:Feast Day of Saint Rose Venerini
DESCRIPTION:
URL:https://www.cwl.ca/event/feast-day-of-saint-rose-venerini/2030-05-07/
END:VEVENT
BEGIN:VEVENT
DTSTART;VALUE=DATE:20300510
DTEND;VALUE=DATE:20300511
DTSTAMP:20260422T221259
CREATED:20250930T002529Z
LAST-MODIFIED:20250930T002529Z
UID:10000717-1904601600-1904687999@www.cwl.ca
SUMMARY:Feast Day of Saint John of Avila
DESCRIPTION:
URL:https://www.cwl.ca/event/feast-day-of-saint-john-of-avila/2030-05-10/
END:VEVENT
BEGIN:VEVENT
DTSTART;VALUE=DATE:20300514
DTEND;VALUE=DATE:20300515
DTSTAMP:20260422T221259
CREATED:20250930T004859Z
LAST-MODIFIED:20250930T004859Z
UID:10000723-1904947200-1905033599@www.cwl.ca
SUMMARY:Feast Day of Saint Matthias the Apostle
DESCRIPTION:
URL:https://www.cwl.ca/event/feast-day-of-saint-matthias-the-apostle/2030-05-14/
END:VEVENT
BEGIN:VEVENT
DTSTART;VALUE=DATE:20300515
DTEND;VALUE=DATE:20300516
DTSTAMP:20260422T221259
CREATED:20250930T004933Z
LAST-MODIFIED:20250930T004933Z
UID:10000728-1905033600-1905119999@www.cwl.ca
SUMMARY:Feast Day of Saint Isidore the Farmer
DESCRIPTION:
URL:https://www.cwl.ca/event/feast-day-of-saint-isidore-the-farmer/2030-05-15/
END:VEVENT
BEGIN:VEVENT
DTSTART;VALUE=DATE:20300525
DTEND;VALUE=DATE:20300526
DTSTAMP:20260422T221259
CREATED:20250930T005913Z
LAST-MODIFIED:20250930T005913Z
UID:10000741-1905897600-1905983999@www.cwl.ca
SUMMARY:Feast Day of Saint Magdalene of Pazzi
DESCRIPTION:
URL:https://www.cwl.ca/event/feast-day-of-saint-magdalene-of-pazzi/2030-05-25/
END:VEVENT
BEGIN:VEVENT
DTSTART;VALUE=DATE:20300526
DTEND;VALUE=DATE:20300527
DTSTAMP:20260422T221259
CREATED:20250930T010118Z
LAST-MODIFIED:20250930T010118Z
UID:10000746-1905984000-1906070399@www.cwl.ca
SUMMARY:Feast Day of Saint Philip Neri
DESCRIPTION:
URL:https://www.cwl.ca/event/feast-day-of-saint-philip-neri/2030-05-26/
END:VEVENT
BEGIN:VEVENT
DTSTART;VALUE=DATE:20300527
DTEND;VALUE=DATE:20300528
DTSTAMP:20260422T221259
CREATED:20250930T010203Z
LAST-MODIFIED:20250930T010203Z
UID:10000751-1906070400-1906156799@www.cwl.ca
SUMMARY:Feast Day of Saint Augustine of Canterbury
DESCRIPTION:
URL:https://www.cwl.ca/event/feast-day-of-saint-augustine-of-canterbury/2030-05-27/
END:VEVENT
END:VCALENDAR