BEGIN:VCALENDAR
VERSION:2.0
PRODID:-//The Catholic Women&#039;s League of Canada - ECPv6.14.0//NONSGML v1.0//EN
CALSCALE:GREGORIAN
METHOD:PUBLISH
X-WR-CALNAME:The Catholic Women&#039;s League of Canada
X-ORIGINAL-URL:https://www.cwl.ca
X-WR-CALDESC:Events for The Catholic Women&#039;s League of Canada
REFRESH-INTERVAL;VALUE=DURATION:PT1H
X-Robots-Tag:noindex
X-PUBLISHED-TTL:PT1H
BEGIN:VTIMEZONE
TZID:UTC
BEGIN:STANDARD
TZOFFSETFROM:+0000
TZOFFSETTO:+0000
TZNAME:UTC
DTSTART:20260101T000000
END:STANDARD
END:VTIMEZONE
BEGIN:VEVENT
DTSTART;VALUE=DATE:20260421
DTEND;VALUE=DATE:20260422
DTSTAMP:20260421T014434
CREATED:20250930T002049Z
LAST-MODIFIED:20250930T002049Z
UID:10000688-1776729600-1776815999@www.cwl.ca
SUMMARY:Feast Day of St Anselm of Canterbury\, Bishop and Doctor of the Church—Optional Memorial
DESCRIPTION:
URL:https://www.cwl.ca/event/feast-day-of-st-anselm-of-canterbury-bishop-and-doctor-of-the-church-optional-memorial/2026-04-21/
END:VEVENT
END:VCALENDAR