BEGIN:VCALENDAR
VERSION:2.0
PRODID:-//The Catholic Women&#039;s League of Canada - ECPv6.14.0//NONSGML v1.0//EN
CALSCALE:GREGORIAN
METHOD:PUBLISH
X-ORIGINAL-URL:https://www.cwl.ca
X-WR-CALDESC:Events for The Catholic Women&#039;s League of Canada
REFRESH-INTERVAL;VALUE=DURATION:PT1H
X-Robots-Tag:noindex
X-PUBLISHED-TTL:PT1H
BEGIN:VTIMEZONE
TZID:UTC
BEGIN:STANDARD
TZOFFSETFROM:+0000
TZOFFSETTO:+0000
TZNAME:UTC
DTSTART:20260101T000000
END:STANDARD
END:VTIMEZONE
BEGIN:VEVENT
DTSTART;TZID=UTC:20260401T080000
DTEND;TZID=UTC:20260401T170000
DTSTAMP:20260423T143630
CREATED:20250929T232241Z
LAST-MODIFIED:20250929T232241Z
UID:10000666-1775030400-1775062800@www.cwl.ca
SUMMARY:Feast Day of St Ceallach (Celsus)\, Bishop
DESCRIPTION:
URL:https://www.cwl.ca/event/feast-day-of-st-ceallach-celsus-bishop/
END:VEVENT
END:VCALENDAR