BEGIN:VCALENDAR
VERSION:2.0
PRODID:-//The Catholic Women&#039;s League of Canada - ECPv6.14.0//NONSGML v1.0//EN
CALSCALE:GREGORIAN
METHOD:PUBLISH
X-ORIGINAL-URL:https://www.cwl.ca
X-WR-CALDESC:Events for The Catholic Women&#039;s League of Canada
REFRESH-INTERVAL;VALUE=DURATION:PT1H
X-Robots-Tag:noindex
X-PUBLISHED-TTL:PT1H
BEGIN:VTIMEZONE
TZID:UTC
BEGIN:STANDARD
TZOFFSETFROM:+0000
TZOFFSETTO:+0000
TZNAME:UTC
DTSTART:20260101T000000
END:STANDARD
END:VTIMEZONE
BEGIN:VTIMEZONE
TZID:America/Chicago
BEGIN:DAYLIGHT
TZOFFSETFROM:-0600
TZOFFSETTO:-0500
TZNAME:CDT
DTSTART:20260308T080000
END:DAYLIGHT
BEGIN:STANDARD
TZOFFSETFROM:-0500
TZOFFSETTO:-0600
TZNAME:CST
DTSTART:20261101T070000
END:STANDARD
END:VTIMEZONE
BEGIN:VEVENT
DTSTART;VALUE=DATE:20260222
DTEND;VALUE=DATE:20260223
DTSTAMP:20260420T131812
CREATED:20250219T183542Z
LAST-MODIFIED:20250219T183542Z
UID:10000306-1771718400-1771804799@www.cwl.ca
SUMMARY:The Feast of the Chair of St. Peter
DESCRIPTION:The Vatican website explains that today’s feast highlights the Chair of Saint Peter (Cathedra Petri)\, symbolizing the mission Jesus entrusted to Peter. The cathedra\, a fixed seat of the bishop\, is placed in the mother church of a diocese\, giving rise to the word “cathedral.” The feast commemorates Peter\, martyred as bishop of Rome. The chair symbolizes a bishop’s authority to protect the flock and transmit the teaching of the gospel as successors of the apostles. Members are encouraged to pray for Pope Francis\, the bishop of Rome\, who occupies the chair of the Basilica of St. John Lateran\, the cathedral church of Rome. \n \n  \nhttps://www.marquette.edu/faith/prayers-new-pope.php 
URL:https://www.cwl.ca/event/the-feast-of-the-chair-of-st-peter/2026-02-22/
END:VEVENT
BEGIN:VEVENT
DTSTART;TZID=America/Chicago:20260222T140000
DTEND;TZID=America/Chicago:20260222T160000
DTSTAMP:20260420T131812
CREATED:20260130T194607Z
LAST-MODIFIED:20260130T194607Z
UID:10000956-1771768800-1771776000@www.cwl.ca
SUMMARY:Mary’s Way of the Cross: A Webinar
DESCRIPTION:Join National Chairperson of Faith Karen Rossiter\, National President Betty Colaneri and National Spiritual Advisor Most Rev. Gerard Bergie for the Mary’s Way of the Cross webinar. 
URL:https://www.cwl.ca/event/marys-way-of-the-cross-a-webinar/
END:VEVENT
END:VCALENDAR