BEGIN:VCALENDAR
VERSION:2.0
PRODID:-//The Catholic Women&#039;s League of Canada - ECPv6.14.0//NONSGML v1.0//EN
CALSCALE:GREGORIAN
METHOD:PUBLISH
X-WR-CALNAME:The Catholic Women&#039;s League of Canada
X-ORIGINAL-URL:https://www.cwl.ca
X-WR-CALDESC:Events for The Catholic Women&#039;s League of Canada
REFRESH-INTERVAL;VALUE=DURATION:PT1H
X-Robots-Tag:noindex
X-PUBLISHED-TTL:PT1H
BEGIN:VTIMEZONE
TZID:UTC
BEGIN:STANDARD
TZOFFSETFROM:+0000
TZOFFSETTO:+0000
TZNAME:UTC
DTSTART:20260101T000000
END:STANDARD
END:VTIMEZONE
BEGIN:VEVENT
DTSTART;VALUE=DATE:20260208
DTEND;VALUE=DATE:20260209
DTSTAMP:20260420T144131
CREATED:20240327T151602Z
LAST-MODIFIED:20250206T183016Z
UID:10000295-1770508800-1770595199@www.cwl.ca
SUMMARY:International Day of Prayer and Awareness Against Human Trafficking
DESCRIPTION:St. Josephine Bakhita\, born in Sudan in 1869\, was kidnapped at age nine and sold into slavery. Her captors gave her the name “Bakhita\,” meaning “fortunate.” She endured brutal treatment\, being sold multiple times. At 14\, she was bought by an Italian consul whose kindness led to her conversion to Christianity. She was baptized as Josephine and chose religious life after gaining freedom in adulthood. Her memorial\, celebrated on February 8th\, is an occasion to pray for victims of human trafficking and continued awareness and advocacy against it. \n  \n \n 
URL:https://www.cwl.ca/event/international-day-of-prayer-and-awareness-against-human-trafficking-2/2026-02-08/
END:VEVENT
BEGIN:VEVENT
DTSTART;VALUE=DATE:20260208
DTEND;VALUE=DATE:20260209
DTSTAMP:20260420T144131
CREATED:20250926T015425Z
LAST-MODIFIED:20250926T015425Z
UID:10000589-1770508800-1770595199@www.cwl.ca
SUMMARY:Saint Jerome Emiliani (Optional Memorial) and Saint Josephine Bakhita (Optional Memorial)
DESCRIPTION:
URL:https://www.cwl.ca/event/saint-jerome-emiliani-optional-memorial-and-saint-josephine-bakhita-optional-memorial/2026-02-08/
END:VEVENT
END:VCALENDAR