BEGIN:VCALENDAR
VERSION:2.0
PRODID:-//The Catholic Women&#039;s League of Canada - ECPv6.14.0//NONSGML v1.0//EN
CALSCALE:GREGORIAN
METHOD:PUBLISH
X-ORIGINAL-URL:https://www.cwl.ca
X-WR-CALDESC:Events for The Catholic Women&#039;s League of Canada
REFRESH-INTERVAL;VALUE=DURATION:PT1H
X-Robots-Tag:noindex
X-PUBLISHED-TTL:PT1H
BEGIN:VTIMEZONE
TZID:UTC
BEGIN:STANDARD
TZOFFSETFROM:+0000
TZOFFSETTO:+0000
TZNAME:UTC
DTSTART:20260101T000000
END:STANDARD
END:VTIMEZONE
BEGIN:VEVENT
DTSTART;VALUE=DATE:20260117
DTEND;VALUE=DATE:20260118
DTSTAMP:20260419T233523
CREATED:20250926T014611Z
LAST-MODIFIED:20250926T014611Z
UID:10000549-1768608000-1768694399@www.cwl.ca
SUMMARY:Saint Anthony of Egypt\, Abbot (Memorial)
DESCRIPTION:
URL:https://www.cwl.ca/event/saint-anthony-of-egypt-abbot-memorial/2026-01-17/
END:VEVENT
BEGIN:VEVENT
DTSTART;VALUE=DATE:20260117
DTEND;VALUE=DATE:20260125
DTSTAMP:20260419T233523
CREATED:20240327T151117Z
LAST-MODIFIED:20250117T141916Z
UID:10000240-1768608000-1769299199@www.cwl.ca
SUMMARY:Week of Prayer for Christian Unity
DESCRIPTION:The Week of Prayer for Christian Unity is celebrated around the world January 18-25\, though the week may be observed to include two Sundays. The theme for this year is\, Do you believe this? (John 11-26) in recognition that 2025 marks the 1700th anniversary of the first Christian Ecumenical Council held in Nicea\, Constantinople. Christians express their personal “I believe” in praying the Nicene Creed and seeking a deeper understanding of ecumenism by meeting\, celebrating liturgy and praying our oneness in Christ with Christians of other denominations. \n 
URL:https://www.cwl.ca/event/week-of-prayer-for-christian-unity/2026-01-17/
END:VEVENT
END:VCALENDAR