BEGIN:VCALENDAR
VERSION:2.0
PRODID:-//The Catholic Women&#039;s League of Canada - ECPv6.14.0//NONSGML v1.0//EN
CALSCALE:GREGORIAN
METHOD:PUBLISH
X-WR-CALNAME:The Catholic Women&#039;s League of Canada
X-ORIGINAL-URL:https://www.cwl.ca
X-WR-CALDESC:Events for The Catholic Women&#039;s League of Canada
REFRESH-INTERVAL;VALUE=DURATION:PT1H
X-Robots-Tag:noindex
X-PUBLISHED-TTL:PT1H
BEGIN:VTIMEZONE
TZID:UTC
BEGIN:STANDARD
TZOFFSETFROM:+0000
TZOFFSETTO:+0000
TZNAME:UTC
DTSTART:20260101T000000
END:STANDARD
END:VTIMEZONE
BEGIN:VEVENT
DTSTART;VALUE=DATE:20260111
DTEND;VALUE=DATE:20260112
DTSTAMP:20260419T193333
CREATED:20250926T014519Z
LAST-MODIFIED:20260109T150920Z
UID:10000544-1768089600-1768175999@www.cwl.ca
SUMMARY:Feast of the Baptism of the Lord
DESCRIPTION:The Feast of the Baptism of the Lord commemorates the baptism of Jesus in the Jordan River by John the Baptist. Jesus’ baptism reminds us of our mission to experience the presence of God within us\, to acknowledge our own dignity as God’s children\, and to appreciate the Divine Presence in others by honoring them\, loving them and serving them in all humility. \n 
URL:https://www.cwl.ca/event/feast-of-the-baptism-of-the-lord/2026-01-11/
END:VEVENT
END:VCALENDAR