BEGIN:VCALENDAR
VERSION:2.0
PRODID:-//The Catholic Women&#039;s League of Canada - ECPv6.14.0//NONSGML v1.0//EN
CALSCALE:GREGORIAN
METHOD:PUBLISH
X-WR-CALNAME:The Catholic Women&#039;s League of Canada
X-ORIGINAL-URL:https://www.cwl.ca
X-WR-CALDESC:Events for The Catholic Women&#039;s League of Canada
REFRESH-INTERVAL;VALUE=DURATION:PT1H
X-Robots-Tag:noindex
X-PUBLISHED-TTL:PT1H
BEGIN:VTIMEZONE
TZID:UTC
BEGIN:STANDARD
TZOFFSETFROM:+0000
TZOFFSETTO:+0000
TZNAME:UTC
DTSTART:20260101T000000
END:STANDARD
END:VTIMEZONE
BEGIN:VEVENT
DTSTART;VALUE=DATE:20260106
DTEND;VALUE=DATE:20260107
DTSTAMP:20260419T155559
CREATED:20250926T015100Z
LAST-MODIFIED:20250926T015100Z
UID:10000564-1767657600-1767743999@www.cwl.ca
SUMMARY:The Epiphany of the Lord (Solemnity in some regions\, often a Holy Day of Obligation) 
DESCRIPTION:
URL:https://www.cwl.ca/event/the-epiphany-of-the-lord-solemnity-in-some-regions-often-a-holy-day-of-obligation/2026-01-06/
END:VEVENT
END:VCALENDAR