BEGIN:VCALENDAR
VERSION:2.0
PRODID:-//The Catholic Women&#039;s League of Canada - ECPv6.14.0//NONSGML v1.0//EN
CALSCALE:GREGORIAN
METHOD:PUBLISH
X-ORIGINAL-URL:https://www.cwl.ca
X-WR-CALDESC:Events for The Catholic Women&#039;s League of Canada
REFRESH-INTERVAL;VALUE=DURATION:PT1H
X-Robots-Tag:noindex
X-PUBLISHED-TTL:PT1H
BEGIN:VTIMEZONE
TZID:UTC
BEGIN:STANDARD
TZOFFSETFROM:+0000
TZOFFSETTO:+0000
TZNAME:UTC
DTSTART:20260101T000000
END:STANDARD
END:VTIMEZONE
BEGIN:VEVENT
DTSTART;VALUE=DATE:20260104
DTEND;VALUE=DATE:20260105
DTSTAMP:20260419T124705
CREATED:20250926T014231Z
LAST-MODIFIED:20250926T014231Z
UID:10000534-1767484800-1767571199@www.cwl.ca
SUMMARY:Saint Elizabeth Ann Seton (USA Memorial) 
DESCRIPTION:
URL:https://www.cwl.ca/event/saint-elizabeth-ann-seton-usa-memorial/2026-01-04/
END:VEVENT
BEGIN:VEVENT
DTSTART;VALUE=DATE:20260104
DTEND;VALUE=DATE:20260105
DTSTAMP:20260419T124705
CREATED:20250926T014436Z
LAST-MODIFIED:20260102T182355Z
UID:10000539-1767484800-1767571199@www.cwl.ca
SUMMARY:Epiphany of the Lord (Solemnity) 
DESCRIPTION:Happy New Year! On Sunday\, January 4th\, the Church celebrates the Solemnity of the Epiphany of the Lord. It is the manifestation of our Lord to the whole world; after being made known to the shepherds of Bethlehem He is revealed to the Magi who have come from the East to adore Him. Let us acknowledge and witness together this epiphanic revelation of God\, whose salvation is for all. \n 
URL:https://www.cwl.ca/event/epiphany-of-the-lord-solemnity/2026-01-04/
END:VEVENT
END:VCALENDAR