BEGIN:VCALENDAR
VERSION:2.0
PRODID:-//The Catholic Women&#039;s League of Canada - ECPv6.14.0//NONSGML v1.0//EN
CALSCALE:GREGORIAN
METHOD:PUBLISH
X-WR-CALNAME:The Catholic Women&#039;s League of Canada
X-ORIGINAL-URL:https://www.cwl.ca
X-WR-CALDESC:Events for The Catholic Women&#039;s League of Canada
REFRESH-INTERVAL;VALUE=DURATION:PT1H
X-Robots-Tag:noindex
X-PUBLISHED-TTL:PT1H
BEGIN:VTIMEZONE
TZID:UTC
BEGIN:STANDARD
TZOFFSETFROM:+0000
TZOFFSETTO:+0000
TZNAME:UTC
DTSTART:20250101T000000
END:STANDARD
END:VTIMEZONE
BEGIN:VEVENT
DTSTART;VALUE=DATE:20251206
DTEND;VALUE=DATE:20251207
DTSTAMP:20260419T162355
CREATED:20240911T160022Z
LAST-MODIFIED:20240911T160022Z
UID:10000145-1764979200-1765065599@www.cwl.ca
SUMMARY:National Day of Remembrance and Action on Violence Against Women
DESCRIPTION:
URL:https://www.cwl.ca/event/national-day-of-remembrance-and-action-on-violence-against-women/2025-12-06/
END:VEVENT
BEGIN:VEVENT
DTSTART;VALUE=DATE:20251206
DTEND;VALUE=DATE:20251207
DTSTAMP:20260419T162355
CREATED:20250925T235835Z
LAST-MODIFIED:20250925T235835Z
UID:10000489-1764979200-1765065599@www.cwl.ca
SUMMARY:Feast of St. Nicholas
DESCRIPTION:
URL:https://www.cwl.ca/event/feast-of-st-nicholas/2025-12-06/
END:VEVENT
END:VCALENDAR