BEGIN:VCALENDAR
VERSION:2.0
PRODID:-//The Catholic Women&#039;s League of Canada - ECPv6.14.0//NONSGML v1.0//EN
CALSCALE:GREGORIAN
METHOD:PUBLISH
X-WR-CALNAME:The Catholic Women&#039;s League of Canada
X-ORIGINAL-URL:https://www.cwl.ca
X-WR-CALDESC:Events for The Catholic Women&#039;s League of Canada
REFRESH-INTERVAL;VALUE=DURATION:PT1H
X-Robots-Tag:noindex
X-PUBLISHED-TTL:PT1H
BEGIN:VTIMEZONE
TZID:UTC
BEGIN:STANDARD
TZOFFSETFROM:+0000
TZOFFSETTO:+0000
TZNAME:UTC
DTSTART:20250101T000000
END:STANDARD
END:VTIMEZONE
BEGIN:VEVENT
DTSTART;VALUE=DATE:20251119
DTEND;VALUE=DATE:20251128
DTSTAMP:20260421T134030
CREATED:20250305T201058Z
LAST-MODIFIED:20250305T201058Z
UID:10000313-1763510400-1764287999@www.cwl.ca
SUMMARY:CWL Jubilee Year Pilgrimage to Rome
DESCRIPTION:Pilgrimage Opportunity \nThe national executive is thrilled to announce a CWL Jubilee Year Pilgrimage to Rome November 19-27\, 2025\,  with travel agency Collette. This eight-day trip will be once-in-a-lifetime opportunity to experience your faith with your League sisters during the Jubilee Year with the theme Pilgrims of Hope. (The itinerary and fees are explained in the attached brochure.) \nSpace is limited to 44 pilgrims. Reserve your spot today by contacting: \nCoreen Doucett \nThe Travel Agent Next Door \n(416) 570-1918 \ncdoucett@thetravelagentnextdoor.com \nor by using the online portal at https://gateway.gocollette.com/link/1302083 \nA deposit of $698 per person is due upon reservation. Reservations are made on a first come\, first served basis. Final payment is due by August 21\, 2025. Deposits are refundable up until May 20\, 2025. \nWe hope you will consider joining the national executive on this trip. \n \nPlease click below to learn more: \nCWL Jubilee Year Pilgrimage
URL:https://www.cwl.ca/event/cwl-jubilee-year-pilgrimage-to-rome/
END:VEVENT
END:VCALENDAR