BEGIN:VCALENDAR
VERSION:2.0
PRODID:-//The Catholic Women&#039;s League of Canada - ECPv6.14.0//NONSGML v1.0//EN
CALSCALE:GREGORIAN
METHOD:PUBLISH
X-WR-CALNAME:The Catholic Women&#039;s League of Canada
X-ORIGINAL-URL:https://www.cwl.ca
X-WR-CALDESC:Events for The Catholic Women&#039;s League of Canada
REFRESH-INTERVAL;VALUE=DURATION:PT1H
X-Robots-Tag:noindex
X-PUBLISHED-TTL:PT1H
BEGIN:VTIMEZONE
TZID:UTC
BEGIN:STANDARD
TZOFFSETFROM:+0000
TZOFFSETTO:+0000
TZNAME:UTC
DTSTART:20250101T000000
END:STANDARD
END:VTIMEZONE
BEGIN:VEVENT
DTSTART;VALUE=DATE:20251116
DTEND;VALUE=DATE:20251117
DTSTAMP:20260421T100751
CREATED:20250922T172119Z
LAST-MODIFIED:20250922T172119Z
UID:10000200-1763251200-1763337599@www.cwl.ca
SUMMARY:World Day of the Poor
DESCRIPTION:In his message for World Day of the Poor\, Pope Leo XIV calls on Christians to see the poor not merely as recipients of charity\, but as protagonists of hope. Drawing on the Psalms and lived experiences of poverty\, he emphasizes the need for “new initiatives to support and assist the poorest of the poor” during the jubilee year. He highlights that “Labour\, education\, housing and health are the foundations of a security that will never be attained by the use of arms.” \n\nCoordinate a “blessing bag” outreach with essentials (toiletries\, snacks\, socks) to give to people in need.\n\n\nPartner with a local soup kitchen or shelter for a volunteer day.\n\n\nHold a clothing or food drive\, especially for winter items.
URL:https://www.cwl.ca/event/world-day-of-the-poor-2-2/2025-11-16/
END:VEVENT
END:VCALENDAR