BEGIN:VCALENDAR
VERSION:2.0
PRODID:-//The Catholic Women&#039;s League of Canada - ECPv6.14.0//NONSGML v1.0//EN
CALSCALE:GREGORIAN
METHOD:PUBLISH
X-ORIGINAL-URL:https://www.cwl.ca
X-WR-CALDESC:Events for The Catholic Women&#039;s League of Canada
REFRESH-INTERVAL;VALUE=DURATION:PT1H
X-Robots-Tag:noindex
X-PUBLISHED-TTL:PT1H
BEGIN:VTIMEZONE
TZID:UTC
BEGIN:STANDARD
TZOFFSETFROM:+0000
TZOFFSETTO:+0000
TZNAME:UTC
DTSTART:20250101T000000
END:STANDARD
END:VTIMEZONE
BEGIN:VEVENT
DTSTART;VALUE=DATE:20251019
DTEND;VALUE=DATE:20251020
DTSTAMP:20260425T000247
CREATED:20231030T133148Z
LAST-MODIFIED:20241018T132810Z
UID:10000187-1760832000-1760918399@www.cwl.ca
SUMMARY:World Mission Sunday
DESCRIPTION:Catholics worldwide are invited to pray for and give on World Mission Sunday\, observed the second last Sunday in October. Organized by the Pontifical Missions Society\, the funds collected assist approximately 1\,250 mission dioceses globally. Pastors and pastoral workers are invited to encourage a missionary spirit among all people of God\, promote missionary vocations\, and collaborate spiritually and materially in the church’s mission work\, including support for all the dioceses in Canada’s northern regions (Ordo). Members are urged to respond by donating and by praying for missionaries who have responded to God’s call in this special way.
URL:https://www.cwl.ca/event/world-mission-sunday/2025-10-19/
END:VEVENT
BEGIN:VEVENT
DTSTART;VALUE=DATE:20251019
DTEND;VALUE=DATE:20251020
DTSTAMP:20260425T000247
CREATED:20250922T172017Z
LAST-MODIFIED:20250922T172017Z
UID:10000373-1760832000-1760918399@www.cwl.ca
SUMMARY:Purple Thursday
DESCRIPTION:People are encouraged to wear purple to show support for survivors of domestic violence and raise awareness about “the intersection between brain injury and interpersonal violence.” The colour purple symbolizes courage\, peace and survival\, and wearing it helps to show survivors they are not alone and that a supportive community exists for them.
URL:https://www.cwl.ca/event/purple-thursday/2025-10-19/
END:VEVENT
END:VCALENDAR